BEGIN:VCALENDAR
VERSION:2.0
PRODID:-//Exceptional Wellness Counseling - ECPv6.15.11//NONSGML v1.0//EN
CALSCALE:GREGORIAN
METHOD:PUBLISH
X-ORIGINAL-URL:https://www.exceptionalwellnesscounseling.com
X-WR-CALDESC:Events for Exceptional Wellness Counseling
REFRESH-INTERVAL;VALUE=DURATION:PT1H
X-Robots-Tag:noindex
X-PUBLISHED-TTL:PT1H
BEGIN:VTIMEZONE
TZID:America/New_York
BEGIN:DAYLIGHT
TZOFFSETFROM:-0500
TZOFFSETTO:-0400
TZNAME:EDT
DTSTART:20240310T070000
END:DAYLIGHT
BEGIN:STANDARD
TZOFFSETFROM:-0400
TZOFFSETTO:-0500
TZNAME:EST
DTSTART:20241103T060000
END:STANDARD
BEGIN:DAYLIGHT
TZOFFSETFROM:-0500
TZOFFSETTO:-0400
TZNAME:EDT
DTSTART:20250309T070000
END:DAYLIGHT
BEGIN:STANDARD
TZOFFSETFROM:-0400
TZOFFSETTO:-0500
TZNAME:EST
DTSTART:20251102T060000
END:STANDARD
BEGIN:DAYLIGHT
TZOFFSETFROM:-0500
TZOFFSETTO:-0400
TZNAME:EDT
DTSTART:20260308T070000
END:DAYLIGHT
BEGIN:STANDARD
TZOFFSETFROM:-0400
TZOFFSETTO:-0500
TZNAME:EST
DTSTART:20261101T060000
END:STANDARD
END:VTIMEZONE
BEGIN:VEVENT
DTSTART;TZID=America/New_York:20251015T113000
DTEND;TZID=America/New_York:20251015T130000
DTSTAMP:20260419T134924
CREATED:20250923T200656Z
LAST-MODIFIED:20251008T205120Z
UID:6537-1760527800-1760533200@www.exceptionalwellnesscounseling.com
SUMMARY:Shrewsbury Office Grand Reopening
DESCRIPTION:
URL:https://www.exceptionalwellnesscounseling.com/event/shrewsbury-office-grand-reopening/
LOCATION:Exceptional Wellness Counseling Shrewsbury\, 179 Avenue at the Cmns\, Shrewsbury\, 07702\, United States
END:VEVENT
BEGIN:VEVENT
DTSTART;TZID=America/New_York:20251015T173000
DTEND;TZID=America/New_York:20251015T190000
DTSTAMP:20260419T134924
CREATED:20251008T205356Z
LAST-MODIFIED:20251008T205356Z
UID:6570-1760549400-1760554800@www.exceptionalwellnesscounseling.com
SUMMARY:Shrewsbury Office Grand Reopening
DESCRIPTION:
URL:https://www.exceptionalwellnesscounseling.com/event/shrewsbury-office-grand-reopening-2/
LOCATION:Exceptional Wellness Counseling Shrewsbury\, 179 Avenue at the Cmns\, Shrewsbury\, 07702\, United States
END:VEVENT
END:VCALENDAR