BEGIN:VCALENDAR
VERSION:2.0
PRODID:-//Exceptional Wellness Counseling - ECPv6.15.11//NONSGML v1.0//EN
CALSCALE:GREGORIAN
METHOD:PUBLISH
X-ORIGINAL-URL:https://www.exceptionalwellnesscounseling.com
X-WR-CALDESC:Events for Exceptional Wellness Counseling
REFRESH-INTERVAL;VALUE=DURATION:PT1H
X-Robots-Tag:noindex
X-PUBLISHED-TTL:PT1H
BEGIN:VTIMEZONE
TZID:America/New_York
BEGIN:DAYLIGHT
TZOFFSETFROM:-0500
TZOFFSETTO:-0400
TZNAME:EDT
DTSTART:20240310T070000
END:DAYLIGHT
BEGIN:STANDARD
TZOFFSETFROM:-0400
TZOFFSETTO:-0500
TZNAME:EST
DTSTART:20241103T060000
END:STANDARD
BEGIN:DAYLIGHT
TZOFFSETFROM:-0500
TZOFFSETTO:-0400
TZNAME:EDT
DTSTART:20250309T070000
END:DAYLIGHT
BEGIN:STANDARD
TZOFFSETFROM:-0400
TZOFFSETTO:-0500
TZNAME:EST
DTSTART:20251102T060000
END:STANDARD
BEGIN:DAYLIGHT
TZOFFSETFROM:-0500
TZOFFSETTO:-0400
TZNAME:EDT
DTSTART:20260308T070000
END:DAYLIGHT
BEGIN:STANDARD
TZOFFSETFROM:-0400
TZOFFSETTO:-0500
TZNAME:EST
DTSTART:20261101T060000
END:STANDARD
END:VTIMEZONE
BEGIN:VEVENT
DTSTART;TZID=America/New_York:20251206T100000
DTEND;TZID=America/New_York:20251206T170000
DTSTAMP:20260419T103143
CREATED:20251110T163229Z
LAST-MODIFIED:20251110T163229Z
UID:6611-1765015200-1765040400@www.exceptionalwellnesscounseling.com
SUMMARY:Asbury Park Santa Run
DESCRIPTION:Asbury Park Santa Run is a 5K fun run in support of local charity\, Lunch Break. All runners will receive their very own Santa suit plus chip timed results\, a closed course on the streets of Asbury Park\, and access to multiple after parties. A portion of the proceeds from ticket sales will go to Lunch Break to help support their mission to provide food\, clothing\, and fellowship to those in need around the holidays.
URL:https://www.exceptionalwellnesscounseling.com/event/asbury-park-santa-run/
LOCATION:The Stone Pony\,\, The Stone Pony\, Asbury Park\, NJ\, United States
END:VEVENT
END:VCALENDAR