BEGIN:VCALENDAR
VERSION:2.0
PRODID:-//Exceptional Wellness Counseling - ECPv6.15.11//NONSGML v1.0//EN
CALSCALE:GREGORIAN
METHOD:PUBLISH
X-ORIGINAL-URL:https://www.exceptionalwellnesscounseling.com
X-WR-CALDESC:Events for Exceptional Wellness Counseling
REFRESH-INTERVAL;VALUE=DURATION:PT1H
X-Robots-Tag:noindex
X-PUBLISHED-TTL:PT1H
BEGIN:VTIMEZONE
TZID:America/New_York
BEGIN:DAYLIGHT
TZOFFSETFROM:-0500
TZOFFSETTO:-0400
TZNAME:EDT
DTSTART:20250309T070000
END:DAYLIGHT
BEGIN:STANDARD
TZOFFSETFROM:-0400
TZOFFSETTO:-0500
TZNAME:EST
DTSTART:20251102T060000
END:STANDARD
BEGIN:DAYLIGHT
TZOFFSETFROM:-0500
TZOFFSETTO:-0400
TZNAME:EDT
DTSTART:20260308T070000
END:DAYLIGHT
BEGIN:STANDARD
TZOFFSETFROM:-0400
TZOFFSETTO:-0500
TZNAME:EST
DTSTART:20261101T060000
END:STANDARD
BEGIN:DAYLIGHT
TZOFFSETFROM:-0500
TZOFFSETTO:-0400
TZNAME:EDT
DTSTART:20270314T070000
END:DAYLIGHT
BEGIN:STANDARD
TZOFFSETFROM:-0400
TZOFFSETTO:-0500
TZNAME:EST
DTSTART:20271107T060000
END:STANDARD
END:VTIMEZONE
BEGIN:VEVENT
DTSTART;TZID=America/New_York:20260516T170000
DTEND;TZID=America/New_York:20260516T200000
DTSTAMP:20260421T051006
CREATED:20260323T135647Z
LAST-MODIFIED:20260323T135647Z
UID:6944-1778950800-1778961600@www.exceptionalwellnesscounseling.com
SUMMARY:Children's Mental Health Awareness Day
DESCRIPTION:Join us for the 10th Annual Children’s Mental Health Awareness Day\, a county-wide community event dedicated to supporting the emotional well-being of children and families. \nHosted by the CIACC\, this engaging and family-friendly evening brings together local organizations\, resources\, and activities designed to promote mental health awareness in a fun\, approachable way. Each year\, the event welcomes over 300 community members and continues to grow as a meaningful space for connection\, education\, and support. \nFamilies can explore interactive tables hosted by local agencies\, featuring hands-on activities\, games\, crafts\, and giveaways designed to engage children while introducing important mental health resources in an accessible way. \nWe are proud to be part of a community that prioritizes early support\, connection\, and care for children and their families. \nStop by\, explore\, and connect—we look forward to seeing you there. 
URL:https://www.exceptionalwellnesscounseling.com/event/childrens-mental-health-awareness-day/
LOCATION:Allaire Community Farm\, Wall\, 1923 Baileys Corner Rd\, Wall\, NJ\, 07719\, United States
END:VEVENT
END:VCALENDAR